BEGIN:VCALENDAR
VERSION:2.0
PRODID:spatie/icalendar-generator
DESCRIPTION:Events from Carachipampa Christian School
X-WR-CALDESC:Events from Carachipampa Christian School
REFRESH-INTERVAL;VALUE=DURATION:PT1440M
X-PUBLISHED-TTL:PT1440M
BEGIN:VTIMEZONE
TZID:America/Caracas
BEGIN:STANDARD
DTSTART:20250731T183000Z
TZOFFSETFROM:-0400
TZOFFSETTO:-0400
END:STANDARD
END:VTIMEZONE
BEGIN:VTIMEZONE
TZID:UTC
BEGIN:STANDARD
DTSTART:20250727T193649Z
TZOFFSETFROM:+0000
TZOFFSETTO:+0000
END:STANDARD
END:VTIMEZONE
BEGIN:VEVENT
UID:107-18
DTSTAMP:20260423T193649Z
SUMMARY:ESCUELA DE PADRES
LOCATION:
ORGANIZER;CN=Christian Villca Tejerina:MAILTO:systems2k25.ccs@gmail.com
DTSTART;TZID=America/Caracas:20260427T183000
DTEND;TZID=America/Caracas:20260429T203000
X-ALT-DESC;FMTTYPE=TEXT/HTML:
CATEGORIES:CCS Gabinete Activities
URL;VALUE=URI:https://www.carachipampa.org/mc-events/escuela-de-padres/
METHOD:PUBLISH
END:VEVENT
END:VCALENDAR