BEGIN:VCALENDAR
VERSION:2.0
PRODID:spatie/icalendar-generator
DESCRIPTION:Events from Carachipampa Christian School
X-WR-CALDESC:Events from Carachipampa Christian School
REFRESH-INTERVAL;VALUE=DURATION:PT1440M
X-PUBLISHED-TTL:PT1440M
BEGIN:VTIMEZONE
TZID:America/Caracas
BEGIN:STANDARD
DTSTART:20250505T000000Z
TZOFFSETFROM:-0400
TZOFFSETTO:-0400
END:STANDARD
END:VTIMEZONE
BEGIN:VTIMEZONE
TZID:UTC
BEGIN:STANDARD
DTSTART:20250727T230924Z
TZOFFSETFROM:+0000
TZOFFSETTO:+0000
END:STANDARD
END:VTIMEZONE
BEGIN:VEVENT
UID:55-4
DTSTAMP:20260423T230924Z
SUMMARY:BLESSING CEREMONY (Worship &amp;amp\; Prayer)
LOCATION:School Campus
ORGANIZER;CN=Christian Villca Tejerina:MAILTO:systems2k25.ccs@gmail.com
DTSTART;TZID=America/Caracas;VALUE=DATE:20260130
DTEND;TZID=America/Caracas;VALUE=DATE:20260131
X-ALT-DESC;FMTTYPE=TEXT/HTML:
CATEGORIES:100th Year Anniversary Special Activities
URL;VALUE=URI:https://www.carachipampa.org/mc-events/blessing-ceremony-wors
 hip-prayer/
METHOD:PUBLISH
END:VEVENT
END:VCALENDAR