BEGIN:VCALENDAR
VERSION:2.0
PRODID:spatie/icalendar-generator
DESCRIPTION:Events from Carachipampa Christian School
X-WR-CALDESC:Events from Carachipampa Christian School
REFRESH-INTERVAL;VALUE=DURATION:PT1440M
X-PUBLISHED-TTL:PT1440M
BEGIN:VTIMEZONE
TZID:America/Caracas
BEGIN:STANDARD
DTSTART:20250530T000000Z
TZOFFSETFROM:-0400
TZOFFSETTO:-0400
END:STANDARD
END:VTIMEZONE
BEGIN:VTIMEZONE
TZID:UTC
BEGIN:STANDARD
DTSTART:20250727T194146Z
TZOFFSETFROM:+0000
TZOFFSETTO:+0000
END:STANDARD
END:VTIMEZONE
BEGIN:VEVENT
UID:63-10
DTSTAMP:20260423T194146Z
SUMMARY:Launch Film Competition (MS &amp;amp\; HS)
LOCATION:School Campus
ORGANIZER;CN=Christian Villca Tejerina:MAILTO:systems2k25.ccs@gmail.com
DTSTART;TZID=America/Caracas;VALUE=DATE:20260224
DTEND;TZID=America/Caracas;VALUE=DATE:20260225
X-ALT-DESC;FMTTYPE=TEXT/HTML:
CATEGORIES:100th Year Anniversary Special Activities
URL;VALUE=URI:https://www.carachipampa.org/mc-events/launch-film-competitio
 n-ms-hs/
METHOD:PUBLISH
END:VEVENT
END:VCALENDAR