BEGIN:VCALENDAR
VERSION:2.0
PRODID:spatie/icalendar-generator
DESCRIPTION:Events from Carachipampa Christian School
X-WR-CALDESC:Events from Carachipampa Christian School
REFRESH-INTERVAL;VALUE=DURATION:PT1440M
X-PUBLISHED-TTL:PT1440M
BEGIN:VTIMEZONE
TZID:America/Caracas
BEGIN:STANDARD
DTSTART:20250630T000000Z
TZOFFSETFROM:-0400
TZOFFSETTO:-0400
END:STANDARD
END:VTIMEZONE
BEGIN:VTIMEZONE
TZID:UTC
BEGIN:STANDARD
DTSTART:20250727T193701Z
TZOFFSETFROM:+0000
TZOFFSETTO:+0000
END:STANDARD
END:VTIMEZONE
BEGIN:VEVENT
UID:67-13
DTSTAMP:20260423T193701Z
SUMMARY:FILM PREMIER School Movie Night: Presentation of the first 3 places
  of the competition
LOCATION:
ORGANIZER;CN=Christian Villca Tejerina:MAILTO:systems2k25.ccs@gmail.com
DTSTART;TZID=America/Caracas;VALUE=DATE:20260327
DTEND;TZID=America/Caracas;VALUE=DATE:20260328
X-ALT-DESC;FMTTYPE=TEXT/HTML:School Movie Night: Presentation of the first 
 3 places of the competition
CATEGORIES:100th Year Anniversary Special Activities
URL;VALUE=URI:https://www.carachipampa.org/mc-events/film-premier-school-mo
 vie-night-presentation-of-the-first-3-places-of-the-competition/
METHOD:PUBLISH
END:VEVENT
END:VCALENDAR